BEGIN:VCALENDAR
VERSION:2.0
PRODID:-//Childhood Connections - ECPv6.15.20//NONSGML v1.0//EN
CALSCALE:GREGORIAN
METHOD:PUBLISH
X-WR-CALNAME:Childhood Connections
X-ORIGINAL-URL:https://childhoodconnections.ca
X-WR-CALDESC:Events for Childhood Connections
REFRESH-INTERVAL;VALUE=DURATION:PT1H
X-Robots-Tag:noindex
X-PUBLISHED-TTL:PT1H
BEGIN:VTIMEZONE
TZID:America/Vancouver
BEGIN:DAYLIGHT
TZOFFSETFROM:-0800
TZOFFSETTO:-0700
TZNAME:PDT
DTSTART:20230312T100000
END:DAYLIGHT
BEGIN:STANDARD
TZOFFSETFROM:-0700
TZOFFSETTO:-0800
TZNAME:PST
DTSTART:20231105T090000
END:STANDARD
BEGIN:DAYLIGHT
TZOFFSETFROM:-0800
TZOFFSETTO:-0700
TZNAME:PDT
DTSTART:20240310T100000
END:DAYLIGHT
BEGIN:STANDARD
TZOFFSETFROM:-0700
TZOFFSETTO:-0800
TZNAME:PST
DTSTART:20241103T090000
END:STANDARD
BEGIN:DAYLIGHT
TZOFFSETFROM:-0800
TZOFFSETTO:-0700
TZNAME:PDT
DTSTART:20250309T100000
END:DAYLIGHT
BEGIN:STANDARD
TZOFFSETFROM:-0700
TZOFFSETTO:-0800
TZNAME:PST
DTSTART:20251102T090000
END:STANDARD
END:VTIMEZONE
BEGIN:VEVENT
DTSTART;TZID=America/Vancouver:20240315T093000
DTEND;TZID=America/Vancouver:20240315T103000
DTSTAMP:20260421T120248
CREATED:20240209T195403Z
LAST-MODIFIED:20240209T195829Z
UID:15714-1710495000-1710498600@childhoodconnections.ca
SUMMARY:Song\, Story and Rhyme Time at Childhood Connections
DESCRIPTION:
URL:https://childhoodconnections.ca/event/song-story-and-rhyme-time-at-childhood-connections-6/
CATEGORIES:Drop-in Play
ATTACH;FMTTYPE=image/png:https://childhoodconnections.ca/wp-content/uploads/2021/03/CCS-Website-Preview-Photo.png
END:VEVENT
BEGIN:VEVENT
DTSTART;TZID=America/Vancouver:20240308T093000
DTEND;TZID=America/Vancouver:20240308T103000
DTSTAMP:20260421T120248
CREATED:20240209T195234Z
LAST-MODIFIED:20240209T200240Z
UID:15712-1709890200-1709893800@childhoodconnections.ca
SUMMARY:Song\, Story and Rhyme Time at Childhood Connections
DESCRIPTION:
URL:https://childhoodconnections.ca/event/song-story-and-rhyme-time-at-childhood-connections-5/
CATEGORIES:Drop-in Play
ATTACH;FMTTYPE=image/png:https://childhoodconnections.ca/wp-content/uploads/2021/03/CCS-Website-Preview-Photo.png
END:VEVENT
BEGIN:VEVENT
DTSTART;TZID=America/Vancouver:20240301T093000
DTEND;TZID=America/Vancouver:20240301T103000
DTSTAMP:20260421T120248
CREATED:20240209T195131Z
LAST-MODIFIED:20240209T200601Z
UID:15710-1709285400-1709289000@childhoodconnections.ca
SUMMARY:Song\, Story and Rhyme Time at Childhood Connections
DESCRIPTION:
URL:https://childhoodconnections.ca/event/song-story-and-rhyme-time-at-childhood-connections-4/
CATEGORIES:Drop-in Play
ATTACH;FMTTYPE=image/png:https://childhoodconnections.ca/wp-content/uploads/2021/03/CCS-Website-Preview-Photo.png
END:VEVENT
BEGIN:VEVENT
DTSTART;TZID=America/Vancouver:20240223T093000
DTEND;TZID=America/Vancouver:20240223T103000
DTSTAMP:20260421T120248
CREATED:20240209T194817Z
LAST-MODIFIED:20240209T200637Z
UID:15707-1708680600-1708684200@childhoodconnections.ca
SUMMARY:Song\, Story and Rhyme Time at Childhood Connections
DESCRIPTION:
URL:https://childhoodconnections.ca/event/song-story-and-rhyme-time-at-childhood-connections-3/
CATEGORIES:Drop-in Play
ATTACH;FMTTYPE=image/png:https://childhoodconnections.ca/wp-content/uploads/2021/03/CCS-Website-Preview-Photo.png
END:VEVENT
BEGIN:VEVENT
DTSTART;TZID=America/Vancouver:20240223T090000
DTEND;TZID=America/Vancouver:20240223T163000
DTSTAMP:20260421T120248
CREATED:20240214T001647Z
LAST-MODIFIED:20240214T001647Z
UID:15760-1708678800-1708705800@childhoodconnections.ca
SUMMARY:Connect & Play Drop-In Space
DESCRIPTION:Located at Childhood Connections \nNo registration is required \nSpend quality time with your child exploring craft materials together\, playing and Connect with other parents\, grandparents\, caregivers and family childcare providers. \nSpace is open: \nMonday to Wednesday from 12pm – 4:30pm. \nThursday 12:00 pm – 7:00 pm \nFriday 9:00 am – 4:30 pm
URL:https://childhoodconnections.ca/event/connect-play-drop-in-space-4/
CATEGORIES:Drop-in Play
ATTACH;FMTTYPE=image/png:https://childhoodconnections.ca/wp-content/uploads/2021/03/CCS-Website-Preview-Photo.png
END:VEVENT
BEGIN:VEVENT
DTSTART;TZID=America/Vancouver:20240222T120000
DTEND;TZID=America/Vancouver:20240222T190000
DTSTAMP:20260421T120248
CREATED:20240214T001414Z
LAST-MODIFIED:20240214T001440Z
UID:15758-1708603200-1708628400@childhoodconnections.ca
SUMMARY:Connect & Play Drop-In Space
DESCRIPTION:Located at Childhood Connections \nNo registration is required \nSpend quality time with your child exploring craft materials together\, playing and Connect with other parents\, grandparents\, caregivers and family childcare providers. \nSpace is open: \nMonday to Wednesday from 12pm – 4:30pm. \nThursday 12:00 pm – 7:00 pm \nFriday 9:00 am – 4:30 pm
URL:https://childhoodconnections.ca/event/connect-play-drop-in-space-3/
CATEGORIES:Drop-in Play
ATTACH;FMTTYPE=image/png:https://childhoodconnections.ca/wp-content/uploads/2021/03/CCS-Website-Preview-Photo.png
END:VEVENT
BEGIN:VEVENT
DTSTART;TZID=America/Vancouver:20240221T120000
DTEND;TZID=America/Vancouver:20240221T163000
DTSTAMP:20260421T120248
CREATED:20240214T001043Z
LAST-MODIFIED:20240214T001043Z
UID:15755-1708516800-1708533000@childhoodconnections.ca
SUMMARY:Connect & Play Drop-In Space
DESCRIPTION:Located at Childhood Connections \nNo registration is required \nSpend quality time with your child exploring craft materials together\, playing and Connect with other parents\, grandparents\, caregivers and family childcare providers. \nSpace is open: \nMonday to Wednesday from 12pm – 4:30pm. \nThursday 12:00 pm – 7:00 pm \nFriday 9:00 am – 4:30 pm
URL:https://childhoodconnections.ca/event/connect-play-drop-in-space-2/
CATEGORIES:Drop-in Play
ATTACH;FMTTYPE=image/png:https://childhoodconnections.ca/wp-content/uploads/2021/03/CCS-Website-Preview-Photo.png
END:VEVENT
BEGIN:VEVENT
DTSTART;TZID=America/Vancouver:20240220T120000
DTEND;TZID=America/Vancouver:20240220T163000
DTSTAMP:20260421T120248
CREATED:20240213T235839Z
LAST-MODIFIED:20240214T000900Z
UID:15752-1708430400-1708446600@childhoodconnections.ca
SUMMARY:Connect & Play Drop-In Space
DESCRIPTION:Located at Childhood Connections \nNo registration is required \nSpend quality time with your child exploring craft materials together\, playing and Connect with other parents\, grandparents\, caregivers and family childcare providers. \nSpace is open: \nMonday to Wednesday from 12pm – 4:30pm. \nThursday 12:00 pm – 7:00 pm \nFriday 9:00 am – 4:30 pm
URL:https://childhoodconnections.ca/event/connect-play-drop-in-space/
CATEGORIES:Drop-in Play
ATTACH;FMTTYPE=image/png:https://childhoodconnections.ca/wp-content/uploads/2021/03/CCS-Website-Preview-Photo.png
END:VEVENT
BEGIN:VEVENT
DTSTART;TZID=America/Vancouver:20240216T093000
DTEND;TZID=America/Vancouver:20240216T103000
DTSTAMP:20260421T120248
CREATED:20240209T194627Z
LAST-MODIFIED:20240209T194627Z
UID:15705-1708075800-1708079400@childhoodconnections.ca
SUMMARY:Song\, Story and Rhyme Time at Childhood Connections
DESCRIPTION:
URL:https://childhoodconnections.ca/event/song-story-and-rhyme-time-at-childhood-connections-2/
CATEGORIES:Drop-in Play
ATTACH;FMTTYPE=image/png:https://childhoodconnections.ca/wp-content/uploads/2021/03/CCS-Website-Preview-Photo.png
END:VEVENT
BEGIN:VEVENT
DTSTART;TZID=America/Vancouver:20240216T090000
DTEND;TZID=America/Vancouver:20240216T163000
DTSTAMP:20260421T120248
CREATED:20240213T235403Z
LAST-MODIFIED:20240213T235444Z
UID:15749-1708074000-1708101000@childhoodconnections.ca
SUMMARY:Connect & Play Drop-In Space
DESCRIPTION:Located at Childhood Connections \nNo registration is required \nSpend quality time with your child exploring craft materials together\, playing and Connect with other parents\, grandparents\, caregivers and family childcare providers. \nSpace is open: \nMonday to Wednesday from 12pm – 4:30pm. \nThursday 12:00 pm – 7:00 pm \nFriday 9:00 am – 4:30 pm
URL:https://childhoodconnections.ca/event/connect-play/
CATEGORIES:Drop-in Play
ATTACH;FMTTYPE=image/png:https://childhoodconnections.ca/wp-content/uploads/2021/03/CCS-Website-Preview-Photo.png
END:VEVENT
BEGIN:VEVENT
DTSTART;TZID=America/Vancouver:20240215T120000
DTEND;TZID=America/Vancouver:20240215T190000
DTSTAMP:20260421T120248
CREATED:20240213T235206Z
LAST-MODIFIED:20240213T235206Z
UID:15746-1707998400-1708023600@childhoodconnections.ca
SUMMARY:Connect and Play Drop-In Space
DESCRIPTION:Located at Childhood Connections \nNo registration is required \nSpend quality time with your child exploring craft materials together\, playing and Connect with other parents\, grandparents\, caregivers and family childcare providers. \nSpace is open: \nMonday to Wednesday from 12pm – 4:30pm. \nThursday 12:00 pm – 7:00 pm \nFriday 9:00 am – 4:30 pm
URL:https://childhoodconnections.ca/event/connect-and-play-drop-in-space/
CATEGORIES:Drop-in Play
ATTACH;FMTTYPE=image/png:https://childhoodconnections.ca/wp-content/uploads/2021/03/CCS-Website-Preview-Photo.png
END:VEVENT
BEGIN:VEVENT
DTSTART;TZID=America/Vancouver:20240214T120000
DTEND;TZID=America/Vancouver:20240214T163000
DTSTAMP:20260421T120248
CREATED:20240213T234833Z
LAST-MODIFIED:20240213T235012Z
UID:15740-1707912000-1707928200@childhoodconnections.ca
SUMMARY:Connect & Play Drop-In Space
DESCRIPTION:Located at Childhood Connections \nNo registration is required \nSpend quality time with your child exploring craft materials together\, playing and Connect with other parents\, grandparents\, caregivers and family childcare providers. \nSpace is open: \nMonday to Wednesday from 12pm – 4:30pm. \nThursday 12:00 pm – 7:00 pm \nFriday 9:00 am – 4:30 pm
URL:https://childhoodconnections.ca/event/drop-in-play-times/
CATEGORIES:Drop-in Play
ATTACH;FMTTYPE=image/png:https://childhoodconnections.ca/wp-content/uploads/2021/03/CCS-Website-Preview-Photo.png
END:VEVENT
BEGIN:VEVENT
DTSTART;TZID=America/Vancouver:20240212T120000
DTEND;TZID=America/Vancouver:20240212T163000
DTSTAMP:20260421T120248
CREATED:20240209T180540Z
LAST-MODIFIED:20240209T180540Z
UID:15702-1707739200-1707755400@childhoodconnections.ca
SUMMARY:Connect & Play Group Drop in Space
DESCRIPTION:Located at Childhood Connections \nNo registration is required \nSpend quality time with your child exploring craft materials together\, playing and Connect with other parents\, grandparents\, caregivers and family childcare providers. \nSpace is open: \nMonday to Wednesday from 12pm – 4:30pm. \nThursday 12:00 pm – 7:00 pm \nFriday 9:00 am – 4:30 pm
URL:https://childhoodconnections.ca/event/connect-play-group-drop-in-space/
LOCATION:Childhood Connections Okanagan Family & Childcare Society\, 101 - 1505 Harvey Avenue\, Kelowna\, British Columbia\, V1Y 6G1\, Canada
CATEGORIES:Drop-in Play
ATTACH;FMTTYPE=image/png:https://childhoodconnections.ca/wp-content/uploads/2021/03/CCS-Website-Preview-Photo.png
ORGANIZER;CN="Childhood Connections":MAILTO:resource@childhoodconnections.ca
END:VEVENT
END:VCALENDAR